BEGIN:VCALENDAR
VERSION:2.0
PRODID:-//Town of King - ECPv6.15.17.1//NONSGML v1.0//EN
CALSCALE:GREGORIAN
METHOD:PUBLISH
X-ORIGINAL-URL:https://townofkingwi.gov
X-WR-CALDESC:Events for Town of King
REFRESH-INTERVAL;VALUE=DURATION:PT1H
X-Robots-Tag:noindex
X-PUBLISHED-TTL:PT1H
BEGIN:VTIMEZONE
TZID:America/Chicago
BEGIN:DAYLIGHT
TZOFFSETFROM:-0600
TZOFFSETTO:-0500
TZNAME:CDT
DTSTART:20240310T080000
END:DAYLIGHT
BEGIN:STANDARD
TZOFFSETFROM:-0500
TZOFFSETTO:-0600
TZNAME:CST
DTSTART:20241103T070000
END:STANDARD
BEGIN:DAYLIGHT
TZOFFSETFROM:-0600
TZOFFSETTO:-0500
TZNAME:CDT
DTSTART:20250309T080000
END:DAYLIGHT
BEGIN:STANDARD
TZOFFSETFROM:-0500
TZOFFSETTO:-0600
TZNAME:CST
DTSTART:20251102T070000
END:STANDARD
BEGIN:DAYLIGHT
TZOFFSETFROM:-0600
TZOFFSETTO:-0500
TZNAME:CDT
DTSTART:20260308T080000
END:DAYLIGHT
BEGIN:STANDARD
TZOFFSETFROM:-0500
TZOFFSETTO:-0600
TZNAME:CST
DTSTART:20261101T070000
END:STANDARD
END:VTIMEZONE
BEGIN:VEVENT
DTSTART;TZID=America/Chicago:20251208T190000
DTEND;TZID=America/Chicago:20251208T190000
DTSTAMP:20260422T183525
CREATED:20231112T211854Z
LAST-MODIFIED:20231112T212000Z
UID:10000026-1765220400-1765220400@townofkingwi.gov
SUMMARY:Town Board Meeting
DESCRIPTION:
URL:https://townofkingwi.gov/event/town-board-meeting/2025-12-08/
LOCATION:King Town Hall\, W4450 County Road A\, Tomahawk\, WI\, 54487\, United States
CATEGORIES:Town Board
END:VEVENT
BEGIN:VEVENT
DTSTART;TZID=America/Chicago:20251208T190000
DTEND;TZID=America/Chicago:20251208T200000
DTSTAMP:20260422T183525
CREATED:20251203T175233Z
LAST-MODIFIED:20251203T175233Z
UID:10000230-1765220400-1765224000@townofkingwi.gov
SUMMARY:Town Board
DESCRIPTION:
URL:https://townofkingwi.gov/event/town-board-14/
END:VEVENT
BEGIN:VEVENT
DTSTART;TZID=America/Chicago:20251208T190000
DTEND;TZID=America/Chicago:20251208T200000
DTSTAMP:20260422T183525
CREATED:20251210T201041Z
LAST-MODIFIED:20251210T201041Z
UID:10000231-1765220400-1765224000@townofkingwi.gov
SUMMARY:Town Board
DESCRIPTION:
URL:https://townofkingwi.gov/event/town-board-15/
END:VEVENT
END:VCALENDAR